BEGIN:VCALENDAR
VERSION:2.0
PRODID:-//stadtstreifen Bonn - ECPv6.15.20//NONSGML v1.0//EN
CALSCALE:GREGORIAN
METHOD:PUBLISH
X-ORIGINAL-URL:https://stadtstreifen.org
X-WR-CALDESC:Veranstaltungen für stadtstreifen Bonn
REFRESH-INTERVAL;VALUE=DURATION:PT1H
X-Robots-Tag:noindex
X-PUBLISHED-TTL:PT1H
BEGIN:VTIMEZONE
TZID:Europe/Paris
BEGIN:DAYLIGHT
TZOFFSETFROM:+0100
TZOFFSETTO:+0200
TZNAME:CEST
DTSTART:20240331T010000
END:DAYLIGHT
BEGIN:STANDARD
TZOFFSETFROM:+0200
TZOFFSETTO:+0100
TZNAME:CET
DTSTART:20241027T010000
END:STANDARD
BEGIN:DAYLIGHT
TZOFFSETFROM:+0100
TZOFFSETTO:+0200
TZNAME:CEST
DTSTART:20250330T010000
END:DAYLIGHT
BEGIN:STANDARD
TZOFFSETFROM:+0200
TZOFFSETTO:+0100
TZNAME:CET
DTSTART:20251026T010000
END:STANDARD
BEGIN:DAYLIGHT
TZOFFSETFROM:+0100
TZOFFSETTO:+0200
TZNAME:CEST
DTSTART:20260329T010000
END:DAYLIGHT
BEGIN:STANDARD
TZOFFSETFROM:+0200
TZOFFSETTO:+0100
TZNAME:CET
DTSTART:20261025T010000
END:STANDARD
END:VTIMEZONE
BEGIN:VTIMEZONE
TZID:Europe/Helsinki
BEGIN:DAYLIGHT
TZOFFSETFROM:+0200
TZOFFSETTO:+0300
TZNAME:EEST
DTSTART:20240331T010000
END:DAYLIGHT
BEGIN:STANDARD
TZOFFSETFROM:+0300
TZOFFSETTO:+0200
TZNAME:EET
DTSTART:20241027T010000
END:STANDARD
BEGIN:DAYLIGHT
TZOFFSETFROM:+0200
TZOFFSETTO:+0300
TZNAME:EEST
DTSTART:20250330T010000
END:DAYLIGHT
BEGIN:STANDARD
TZOFFSETFROM:+0300
TZOFFSETTO:+0200
TZNAME:EET
DTSTART:20251026T010000
END:STANDARD
BEGIN:DAYLIGHT
TZOFFSETFROM:+0200
TZOFFSETTO:+0300
TZNAME:EEST
DTSTART:20260329T010000
END:DAYLIGHT
BEGIN:STANDARD
TZOFFSETFROM:+0300
TZOFFSETTO:+0200
TZNAME:EET
DTSTART:20261025T010000
END:STANDARD
END:VTIMEZONE
BEGIN:VEVENT
DTSTART;TZID=Europe/Paris:20250907T150000
DTEND;TZID=Europe/Paris:20250907T170000
DTSTAMP:20260421T133706
CREATED:20250720T095202Z
LAST-MODIFIED:20250808T115227Z
UID:4120-1757257200-1757264400@stadtstreifen.org
SUMMARY:Stadttour mit Melanie Konrad am 07.09.2025
DESCRIPTION:Herzlich willkommen bei stadtstreifen e.V.! Erfahre aus erster Hand etwas über die Herausforderungen des Lebens auf der Straße und lerne gemeinsam mit einer ehemals wohnungslosen Person vertraute Plätze in Bonn aus einer neuen Perspektive kennen. \n\n\n\nDauer: 1\,5 bis 2 Stunden. \n\n\n\nTreffpunkt: Bonner Hbf (vor Primark). \n\n\n\nKosten: 6€ / ermäßigt 4€ / bis 14 Jahre kostenlos. Nach der Anmeldung kannst du aussuchen\, ob du das Geld überweisen oder bei Paypal bezahlen möchtest. Anschließend erhältst du die Anmeldungsbestätigung per E-Mail. \n\n\n\nWenn sich bis 48 Stunden vor der Tour weniger als 6 Personen angemeldet haben\, muss die Tour leider abgesagt werden und du wirst darüber per E-Mail informiert. Den bezahlten Betrag erstatten wir dir zurück oder du kannst dich kostenlos für eine andere Tour anmelden.
URL:https://stadtstreifen.org/reservierung/stadttour-mit-melanie-konrad-am-07-09-2025/
LOCATION:Poststraße 4\, 53111 Bonn\, Poststraße 4\, Bonn\, 53111\, Deutschland
CATEGORIES:Leben in Wohnungslosigkeit
ATTACH;FMTTYPE=image/jpeg:https://stadtstreifen.org/wp-content/uploads/2023/01/Stadtstreifen-Team-6-von-6-scaled-e1674064131694.jpg
END:VEVENT
BEGIN:VEVENT
DTSTART;TZID=Europe/Paris:20250913T110000
DTEND;TZID=Europe/Paris:20250913T120000
DTSTAMP:20260421T133706
CREATED:20250803T143533Z
LAST-MODIFIED:20250912T151320Z
UID:4497-1757761200-1757764800@stadtstreifen.org
SUMMARY:Stadttour mit Diana & Viktoriia am 13.09.2025
DESCRIPTION:Foto: © David Adelmann \n\n\n\nDiana und Viktoriia zeigen Orte in Bonn\, die nach ihrer Flucht aus der Ukraine eine besondere Bedeutung für sie gewonnen haben. Sie sprechen über Herausforderungen des Ankommens und reflektieren gemeinsam mit den Teilnehmenden\, was ihnen auf diesem Weg geholfen hat und wie sie sich heute selbst engagieren\, um Bonn zu einem Ort des Ankommens zu machen. \n\n\n\nDauer: 1 – 1\,5 Stunden \n\n\n\nTreffpunkt: Hofgarten\, an den Fahrradständern gegenüber vom Universitätsmuseums\, Regina-Pacis-Weg 1\, 53113 Bonn \n\n\n\nKosten: 6€ / ermäßigt 4€. Nach der Anmeldung kannst du aussuchen\, ob du das Geld überweisen oder bei Paypal bezahlen möchtest. Anschließend erhältst du die Anmeldungsbestätigung per E-Mail. Diese Tour wird vom Verfügungsfonds des Innenstadtmanagement Bonn unterstützt. \n\n\n\nWenn sich bis 48 Stunden vor der Tour weniger als 6 Personen angemeldet haben\, muss die Tour leider abgesagt werden und du wirst darüber per E-Mail informiert. Den bezahlten Betrag erstatten wir dir zurück oder du kannst dich kostenlos für eine andere Tour anmelden.
URL:https://stadtstreifen.org/reservierung/stadttour-mit-diana-viktoriia-am-13-09-2025/
LOCATION:Hofgarten\, Fahrradständer gegenüber des Universitätsmuseums\, Regina-Pacis-Weg 1\, Bonn\, 53113\, Germany
CATEGORIES:Menschen mit Fluchterfahrung
ATTACH;FMTTYPE=image/jpeg:https://stadtstreifen.org/wp-content/uploads/2025/07/Bonn-28.06.2025-7-scaled-e1775210125366.jpg
END:VEVENT
BEGIN:VEVENT
DTSTART;TZID=Europe/Paris:20250920T150000
DTEND;TZID=Europe/Paris:20250920T170000
DTSTAMP:20260421T133706
CREATED:20250803T150359Z
LAST-MODIFIED:20250828T183951Z
UID:4517-1758380400-1758387600@stadtstreifen.org
SUMMARY:Stadttour mit Melanie Konrad am 20.09.2025
DESCRIPTION:Herzlich willkommen bei stadtstreifen e.V.! Erfahre aus erster Hand etwas über die Herausforderungen des Lebens auf der Straße und lerne gemeinsam mit einer ehemals wohnungslosen Person vertraute Plätze in Bonn aus einer neuen Perspektive kennen. \n\n\n\nDauer: 1\,5 bis 2 Stunden. \n\n\n\nTreffpunkt: Bonner Hbf (vor Primark). \n\n\n\nKosten: 6€ / ermäßigt 4€ / bis 14 Jahre kostenlos. Nach der Anmeldung kannst du aussuchen\, ob du das Geld überweisen oder bei Paypal bezahlen möchtest. Anschließend erhältst du die Anmeldungsbestätigung per E-Mail. \n\n\n\nWenn sich bis 48 Stunden vor der Tour weniger als 6 Personen angemeldet haben\, muss die Tour leider abgesagt werden und du wirst darüber per E-Mail informiert. Den bezahlten Betrag erstatten wir dir zurück oder du kannst dich kostenlos für eine andere Tour anmelden.
URL:https://stadtstreifen.org/reservierung/stadttour-mit-melanie-konrad-am-20-09-2025/
LOCATION:Poststraße 4\, 53111 Bonn\, Poststraße 4\, Bonn\, 53111\, Deutschland
CATEGORIES:Leben in Wohnungslosigkeit
ATTACH;FMTTYPE=image/jpeg:https://stadtstreifen.org/wp-content/uploads/2023/01/Stadtstreifen-Team-6-von-6-scaled-e1674064131694.jpg
END:VEVENT
BEGIN:VEVENT
DTSTART;TZID=Europe/Helsinki:20250925T170000
DTEND;TZID=Europe/Helsinki:20250925T180000
DTSTAMP:20260421T133706
CREATED:20250914T120957Z
LAST-MODIFIED:20250923T160611Z
UID:5003-1758819600-1758823200@stadtstreifen.org
SUMMARY:Stadttour mit Diana & Viktoriia am 25.09.2025
DESCRIPTION:Foto: © David Adelmann \n\n\n\nDiana und Viktoriia zeigen Orte in Bonn\, die nach ihrer Flucht aus der Ukraine eine besondere Bedeutung für sie gewonnen haben. Sie sprechen über Herausforderungen des Ankommens und reflektieren gemeinsam mit den Teilnehmenden\, was ihnen auf diesem Weg geholfen hat und wie sie sich heute selbst engagieren\, um Bonn zu einem Ort des Ankommens zu machen. \n\n\n\nDauer: 1 – 1\,5 Stunden \n\n\n\nTreffpunkt: Hofgarten\, an den Fahrradständern gegenüber vom Universitätsmuseum\, Regina-Pacis-Weg 1\, 53113 Bonn \n\n\n\nKosten: 6€ / ermäßigt 4€. Nach der Anmeldung kannst du aussuchen\, ob du das Geld überweisen oder bei Paypal bezahlen möchtest. Anschließend erhältst du die Anmeldungsbestätigung per E-Mail. Diese Tour wird vom Verfügungsfonds des Innenstadtmanagement Bonn unterstützt. \n\n\n\nWenn sich bis 48 Stunden vor der Tour weniger als 6 Personen angemeldet haben\, muss die Tour leider abgesagt werden und du wirst darüber per E-Mail informiert. Den bezahlten Betrag erstatten wir dir zurück oder du kannst dich kostenlos für eine andere Tour anmelden.
URL:https://stadtstreifen.org/reservierung/stadttour-mit-diana-viktoriia-am-25-09-2025/
LOCATION:Hofgarten\, Fahrradständer gegenüber des Universitätsmuseums\, Regina-Pacis-Weg 1\, Bonn\, 53113\, Germany
CATEGORIES:Menschen mit Fluchterfahrung
ATTACH;FMTTYPE=image/jpeg:https://stadtstreifen.org/wp-content/uploads/2025/07/Bonn-28.06.2025-7-scaled-e1775210125366.jpg
END:VEVENT
BEGIN:VEVENT
DTSTART;TZID=Europe/Paris:20250926T110000
DTEND;TZID=Europe/Paris:20250926T130000
DTSTAMP:20260421T133706
CREATED:20250803T145326Z
LAST-MODIFIED:20250923T160658Z
UID:4503-1758884400-1758891600@stadtstreifen.org
SUMMARY:Stadttour mit Luba Krutenko am 26.09.2025
DESCRIPTION:Dieser Rundgang thematisiert das Leben im politischen Exil. Die Stadtplanerin Luba erzählt von ihrem Neuanfang nach ihrem Umzug aus Moskau und spricht mit den Teilnehmenden über Integration\, Vorstellungen von einem „normalen Leben“ und Spannungen zwischen Sicherheit und Freiheit. Wir empfehlen die Teilnahme an dieser Führung ab einem Alter von 14 Jahren. \n\n\n\nDauer: 2 Stunden \n\n\n\nTreffpunkt: Eingang Kult Kiosk\, Breite Straße 17\, 53111 Bonn \n\n\n\nKosten: 6€ / ermäßigt 4€. Nach der Anmeldung kannst du aussuchen\, ob du das Geld überweisen oder bei Paypal bezahlen möchtest. Anschließend erhältst du die Anmeldungsbestätigung per E-Mail. Diese Tour wird vom Verfügungsfonds des Innenstadtmanagement Bonn unterstützt. \n\n\n\nWenn sich bis 48 Stunden vor der Tour weniger als 6 Personen angemeldet haben\, muss die Tour leider abgesagt werden und du wirst darüber per E-Mail informiert. Den bezahlten Betrag erstatten wir dir zurück oder du kannst dich kostenlos für eine andere Tour anmelden.
URL:https://stadtstreifen.org/reservierung/stadttour-mit-luba-krutenko-am-28-09-2025/
LOCATION:Eingang Kult Kiosk\, Breite Strasse 17\, Bonn\, 53111
CATEGORIES:Menschen mit Fluchterfahrung
ATTACH;FMTTYPE=image/jpeg:https://stadtstreifen.org/wp-content/uploads/2025/07/IMG_5345-1-scaled-e1754237336290.jpg
END:VEVENT
END:VCALENDAR