BEGIN:VCALENDAR
VERSION:2.0
PRODID:-//stadtstreifen Bonn - ECPv6.15.20//NONSGML v1.0//EN
CALSCALE:GREGORIAN
METHOD:PUBLISH
X-ORIGINAL-URL:https://stadtstreifen.org
X-WR-CALDESC:Veranstaltungen für stadtstreifen Bonn
REFRESH-INTERVAL;VALUE=DURATION:PT1H
X-Robots-Tag:noindex
X-PUBLISHED-TTL:PT1H
BEGIN:VTIMEZONE
TZID:Europe/Paris
BEGIN:DAYLIGHT
TZOFFSETFROM:+0100
TZOFFSETTO:+0200
TZNAME:CEST
DTSTART:20240331T010000
END:DAYLIGHT
BEGIN:STANDARD
TZOFFSETFROM:+0200
TZOFFSETTO:+0100
TZNAME:CET
DTSTART:20241027T010000
END:STANDARD
BEGIN:DAYLIGHT
TZOFFSETFROM:+0100
TZOFFSETTO:+0200
TZNAME:CEST
DTSTART:20250330T010000
END:DAYLIGHT
BEGIN:STANDARD
TZOFFSETFROM:+0200
TZOFFSETTO:+0100
TZNAME:CET
DTSTART:20251026T010000
END:STANDARD
BEGIN:DAYLIGHT
TZOFFSETFROM:+0100
TZOFFSETTO:+0200
TZNAME:CEST
DTSTART:20260329T010000
END:DAYLIGHT
BEGIN:STANDARD
TZOFFSETFROM:+0200
TZOFFSETTO:+0100
TZNAME:CET
DTSTART:20261025T010000
END:STANDARD
END:VTIMEZONE
BEGIN:VEVENT
DTSTART;TZID=Europe/Paris:20250208T150000
DTEND;TZID=Europe/Paris:20250208T170000
DTSTAMP:20260422T051447
CREATED:20241229T182943Z
LAST-MODIFIED:20250207T141409Z
UID:3530-1739026800-1739034000@stadtstreifen.org
SUMMARY:Stadttour mit Melanie Konrad am 08.02.2025
DESCRIPTION:Herzlich willkommen bei stadtstreifen! Erfahre aus erster Hand etwas über die Herausforderungen des Lebens auf der Straße und lerne gemeinsam mit einer ehemals wohnungslosen Person vertraute Plätze in Bonn aus einer neuen Perspektive kennen. \n\n\n\nDauer: 1\,5 bis 2 Stunden. \n\n\n\nTreffpunkt: Bonner Hbf (vor Primark). \n\n\n\nKosten: 6€ / ermäßigt 4€ / bis 14 Jahre kostenlos. Nach der Anmeldung kannst du aussuchen\, ob du das Geld überweisen oder bei Paypal bezahlen möchtest. Anschließend erhälst du die Teilnahmebestätigung per E-Mail.  \n\n\n\nDer Betrag ist bewusst niedrig gehalten\, um möglichst vielen Personen die Teilnahme zu ermöglich. Wenn dir die Tour gefallen hat\, drücke deine Wertschätzung für die stadtstreiferin bitte durch eine zusätzliche Spende an sie am Ende der Tour aus! \n\n\n\nWenn sich bis 48 Stunden vor der Tour weniger als 6 Personen angemeldet haben\, muss die Tour leider abgesagt werden und du wirst darüber per E-Mail informiert. Den bezahlten Betrag erstatten wir dir zurück oder du kannst dich kostenlos für eine andere Tour anmelden. \n\n\n\nBei Symptomen einer Covid-Erkrankung verzichte bitte auf eine Teilnahme.
URL:https://stadtstreifen.org/reservierung/stadttour-mit-melanie-konrad-am-08-02-2025/
LOCATION:Poststraße 4\, 53111 Bonn\, Poststraße 4\, Bonn\, 53111\, Deutschland
ATTACH;FMTTYPE=image/jpeg:https://stadtstreifen.org/wp-content/uploads/2023/01/Stadtstreifen-Team-6-von-6-scaled-e1674064131694.jpg
END:VEVENT
BEGIN:VEVENT
DTSTART;TZID=Europe/Paris:20250223T150000
DTEND;TZID=Europe/Paris:20250223T170000
DTSTAMP:20260422T051447
CREATED:20241229T183054Z
LAST-MODIFIED:20250221T085613Z
UID:3529-1740322800-1740330000@stadtstreifen.org
SUMMARY:Stadttour mit Melanie Konrad am 23.02.2025
DESCRIPTION:Herzlich willkommen bei stadtstreifen! Erfahre aus erster Hand etwas über die Herausforderungen des Lebens auf der Straße und lerne gemeinsam mit einer ehemals wohnungslosen Person vertraute Plätze in Bonn aus einer neuen Perspektive kennen. \n\n\n\nDauer: 1\,5 bis 2 Stunden. \n\n\n\nTreffpunkt: Bonner Hbf (vor Primark). \n\n\n\nKosten: 6€ / ermäßigt 4€ / bis 14 Jahre kostenlos. Nach der Anmeldung kannst du aussuchen\, ob du das Geld überweisen oder bei Paypal bezahlen möchtest. Anschließend erhälst du die Teilnahmebestätigung per E-Mail.  \n\n\n\nDer Betrag ist bewusst niedrig gehalten\, um möglichst vielen Personen die Teilnahme zu ermöglich. Wenn dir die Tour gefallen hat\, drücke deine Wertschätzung für die stadtstreiferin bitte durch eine zusätzliche Spende an sie am Ende der Tour aus! \n\n\n\nWenn sich bis 48 Stunden vor der Tour weniger als 6 Personen angemeldet haben\, muss die Tour leider abgesagt werden und du wirst darüber per E-Mail informiert. Den bezahlten Betrag erstatten wir dir zurück oder du kannst dich kostenlos für eine andere Tour anmelden. \n\n\n\nBei Symptomen einer Covid-Erkrankung verzichte bitte auf eine Teilnahme.
URL:https://stadtstreifen.org/reservierung/stadttour-mit-melanie-konrad-am-23-02-2025/
LOCATION:Poststraße 4\, 53111 Bonn\, Poststraße 4\, Bonn\, 53111\, Deutschland
ATTACH;FMTTYPE=image/jpeg:https://stadtstreifen.org/wp-content/uploads/2023/01/Stadtstreifen-Team-6-von-6-scaled-e1674064131694.jpg
END:VEVENT
END:VCALENDAR