BEGIN:VCALENDAR
VERSION:2.0
PRODID:-//stadtstreifen Bonn - ECPv6.15.20//NONSGML v1.0//EN
CALSCALE:GREGORIAN
METHOD:PUBLISH
X-WR-CALNAME:stadtstreifen Bonn
X-ORIGINAL-URL:https://stadtstreifen.org
X-WR-CALDESC:Veranstaltungen für stadtstreifen Bonn
REFRESH-INTERVAL;VALUE=DURATION:PT1H
X-Robots-Tag:noindex
X-PUBLISHED-TTL:PT1H
BEGIN:VTIMEZONE
TZID:Europe/Paris
BEGIN:DAYLIGHT
TZOFFSETFROM:+0100
TZOFFSETTO:+0200
TZNAME:CEST
DTSTART:20240331T010000
END:DAYLIGHT
BEGIN:STANDARD
TZOFFSETFROM:+0200
TZOFFSETTO:+0100
TZNAME:CET
DTSTART:20241027T010000
END:STANDARD
BEGIN:DAYLIGHT
TZOFFSETFROM:+0100
TZOFFSETTO:+0200
TZNAME:CEST
DTSTART:20250330T010000
END:DAYLIGHT
BEGIN:STANDARD
TZOFFSETFROM:+0200
TZOFFSETTO:+0100
TZNAME:CET
DTSTART:20251026T010000
END:STANDARD
BEGIN:DAYLIGHT
TZOFFSETFROM:+0100
TZOFFSETTO:+0200
TZNAME:CEST
DTSTART:20260329T010000
END:DAYLIGHT
BEGIN:STANDARD
TZOFFSETFROM:+0200
TZOFFSETTO:+0100
TZNAME:CET
DTSTART:20261025T010000
END:STANDARD
END:VTIMEZONE
BEGIN:VEVENT
DTSTART;TZID=Europe/Paris:20250101T150000
DTEND;TZID=Europe/Paris:20250101T170000
DTSTAMP:20260422T065630
CREATED:20241125T123526Z
LAST-MODIFIED:20241229T183349Z
UID:3064-1735743600-1735750800@stadtstreifen.org
SUMMARY:Neujahrstour durch Bonn – Neue Perspektiven für 2025
DESCRIPTION:Beginne das neue Jahr mit einer besonderen Entdeckung! Am 01. Januar 2025 um 15 Uhr laden wir ein zu einer außergewöhnlichen Stadtführung durch Bonn. Geführt wird die Tour von einer Person\, die selbst ohne festen Wohnsitz lebt. Sie teilt ihre persönlichen Geschichten\, zeigt dir die Stadt aus ihrer ganz eigenen Perspektive und eröffnet Einblicke\, die über die üblichen Sehenswürdigkeiten hinausgehen.  \n\n\n\nErlebe Bonn aus einem neuen Blickwinkel und lerne mehr über die Herausforderungen und Perspektiven\, die sonst oft unbemerkt bleiben. Diese Tour lädt ein\, die eigene Sichtweise zu erweitern\, Verständnis zu fördern und die Stadt mit anderen Augen zu sehen.  \n\n\n\nTour-Details \n\n\n\n\nDatum: 01. Januar 2025 \n\n\n\nUhrzeit: 15:00 Uhr \n\n\n\nDauer: 1\,5 bis 2 Stunden \n\n\n\nTreffpunkt: Bonner Hauptbahnhof (vor Primark) \n\n\n\nKosten: 6 € / 4 € ermäßigt / Kinder bis 14 Jahre kostenlos\n\n\n\n\n \n\n\n\nAnmeldung und Bezahlung  \n\n\n\nMelde dich  ganz einfach über das untenstehende Formular an. Nach der Anmeldung kannst du wählen\, ob du die Teilnahmegebühr per Überweisung oder PayPal bezahlen möchtest. Anschließend erhälst du eine Teilnahmebestätigung per E-Mail.  \n\n\n\nDie Stadtstreifer:innen freuen sich außerdem über eine Spende am Ende der Tour\, um ihre wichtige Arbeit zu unterstützen.  \n\n\n\nWichtige Hinweise  \n\n\n\nDie Tour findet nur statt\, wenn sich bis 48 Stunden vorher mindestens 6 Personen angemeldet haben. Andernfalls wird die Tour abgesagt\, und du wirst per E-Mail informiert. Bereits bezahlte Beträge werden erstattet oder können auf Wunsch für eine andere Tour genutzt werden.  \n\n\n\nBei Symptomen einer Covid-Erkrankung verzichte bitte auf eine Teilnahme. \n\n\n\nJetzt anmelden und das neue Jahr mit neuen Perspektiven beginnen!
URL:https://stadtstreifen.org/reservierung/neujahrstour-durch-bonn-neue-perspektiven-fuer-2025/
LOCATION:Poststraße 4\, 53111 Bonn\, Poststraße 4\, Bonn\, 53111\, Deutschland
ATTACH;FMTTYPE=image/jpeg:https://stadtstreifen.org/wp-content/uploads/2023/01/Stadtstreifen-Team-6-von-6-scaled-e1674064131694.jpg
END:VEVENT
BEGIN:VEVENT
DTSTART;TZID=Europe/Paris:20250111T150000
DTEND;TZID=Europe/Paris:20250111T170000
DTSTAMP:20260422T065630
CREATED:20241104T103815Z
LAST-MODIFIED:20250110T121748Z
UID:3012-1736607600-1736614800@stadtstreifen.org
SUMMARY:Stadttour mit Melanie Konrad am 11.01.2025
DESCRIPTION:Herzlich willkommen bei stadtstreifen! Erfahre aus erster Hand etwas über die Herausforderungen des Lebens auf der Straße und lerne gemeinsam mit einer ehemals wohnungslosen Person vertraute Plätze in Bonn aus einer neuen Perspektive kennen. \n\n\n\nDauer: 1\,5 bis 2 Stunden. \n\n\n\nTreffpunkt: Bonner Hbf (vor Primark). \n\n\n\nKosten: 6€ / ermäßigt 4€ / bis 14 Jahre kostenlos. Nach der Anmeldung kannst du aussuchen\, ob du das Geld überweisen oder bei Paypal bezahlen möchtest. Anschließend erhälst du die Teilnahmebestätigung per E-Mail.  \n\n\n\nDer Betrag ist bewusst niedrig gehalten\, um möglichst vielen Personen die Teilnahme zu ermöglich. Wenn dir die Tour gefallen hat\, drücke deine Wertschätzung für die stadtstreiferin bitte durch eine zusätzliche Spende an sie am Ende der Tour aus! \n\n\n\nWenn sich bis 48 Stunden vor der Tour weniger als 6 Personen angemeldet haben\, muss die Tour leider abgesagt werden und du wirst darüber per E-Mail informiert. Den bezahlten Betrag erstatten wir dir zurück oder du kannst dich kostenlos für eine andere Tour anmelden. \n\n\n\nBei Symptomen einer Covid-Erkrankung verzichte bitte auf eine Teilnahme.
URL:https://stadtstreifen.org/reservierung/stadttour-mit-melanie-konrad-am-11-01-2025/
LOCATION:Poststraße 4\, 53111 Bonn\, Poststraße 4\, Bonn\, 53111\, Deutschland
ATTACH;FMTTYPE=image/jpeg:https://stadtstreifen.org/wp-content/uploads/2023/01/Stadtstreifen-Team-6-von-6-scaled-e1674064131694.jpg
END:VEVENT
BEGIN:VEVENT
DTSTART;TZID=Europe/Paris:20250126T150000
DTEND;TZID=Europe/Paris:20250126T170000
DTSTAMP:20260422T065630
CREATED:20241104T104150Z
LAST-MODIFIED:20250124T090355Z
UID:3014-1737903600-1737910800@stadtstreifen.org
SUMMARY:Stadttour mit Melanie Konrad am 26.01.2025
DESCRIPTION:Herzlich willkommen bei stadtstreifen! Erfahre aus erster Hand etwas über die Herausforderungen des Lebens auf der Straße und lerne gemeinsam mit einer ehemals wohnungslosen Person vertraute Plätze in Bonn aus einer neuen Perspektive kennen. \n\n\n\nDauer: 1\,5 bis 2 Stunden. \n\n\n\nTreffpunkt: Bonner Hbf (vor Primark). \n\n\n\nKosten: 6€ / ermäßigt 4€ / bis 14 Jahre kostenlos. Nach der Anmeldung kannst du aussuchen\, ob du das Geld überweisen oder bei Paypal bezahlen möchtest. Anschließend erhälst du die Teilnahmebestätigung per E-Mail.  \n\n\n\nDer Betrag ist bewusst niedrig gehalten\, um möglichst vielen Personen die Teilnahme zu ermöglich. Wenn dir die Tour gefallen hat\, drücke deine Wertschätzung für die stadtstreiferin bitte durch eine zusätzliche Spende an sie am Ende der Tour aus! \n\n\n\nWenn sich bis 48 Stunden vor der Tour weniger als 6 Personen angemeldet haben\, muss die Tour leider abgesagt werden und du wirst darüber per E-Mail informiert. Den bezahlten Betrag erstatten wir dir zurück oder du kannst dich kostenlos für eine andere Tour anmelden. \n\n\n\nBei Symptomen einer Covid-Erkrankung verzichte bitte auf eine Teilnahme.
URL:https://stadtstreifen.org/reservierung/stadttour-mit-melanie-konrad-am-26-01-2025/
LOCATION:Poststraße 4\, 53111 Bonn\, Poststraße 4\, Bonn\, 53111\, Deutschland
ATTACH;FMTTYPE=image/jpeg:https://stadtstreifen.org/wp-content/uploads/2023/01/Stadtstreifen-Team-6-von-6-scaled-e1674064131694.jpg
END:VEVENT
END:VCALENDAR