BEGIN:VCALENDAR
VERSION:2.0
PRODID:-//stadtstreifen Bonn - ECPv6.15.20//NONSGML v1.0//EN
CALSCALE:GREGORIAN
METHOD:PUBLISH
X-WR-CALNAME:stadtstreifen Bonn
X-ORIGINAL-URL:https://stadtstreifen.org
X-WR-CALDESC:Veranstaltungen für stadtstreifen Bonn
REFRESH-INTERVAL;VALUE=DURATION:PT1H
X-Robots-Tag:noindex
X-PUBLISHED-TTL:PT1H
BEGIN:VTIMEZONE
TZID:Europe/Paris
BEGIN:DAYLIGHT
TZOFFSETFROM:+0100
TZOFFSETTO:+0200
TZNAME:CEST
DTSTART:20220327T010000
END:DAYLIGHT
BEGIN:STANDARD
TZOFFSETFROM:+0200
TZOFFSETTO:+0100
TZNAME:CET
DTSTART:20221030T010000
END:STANDARD
BEGIN:DAYLIGHT
TZOFFSETFROM:+0100
TZOFFSETTO:+0200
TZNAME:CEST
DTSTART:20230326T010000
END:DAYLIGHT
BEGIN:STANDARD
TZOFFSETFROM:+0200
TZOFFSETTO:+0100
TZNAME:CET
DTSTART:20231029T010000
END:STANDARD
BEGIN:DAYLIGHT
TZOFFSETFROM:+0100
TZOFFSETTO:+0200
TZNAME:CEST
DTSTART:20240331T010000
END:DAYLIGHT
BEGIN:STANDARD
TZOFFSETFROM:+0200
TZOFFSETTO:+0100
TZNAME:CET
DTSTART:20241027T010000
END:STANDARD
END:VTIMEZONE
BEGIN:VEVENT
DTSTART;TZID=Europe/Paris:20231008T150000
DTEND;TZID=Europe/Paris:20231008T170000
DTSTAMP:20260423T121406
CREATED:20230913T123657Z
LAST-MODIFIED:20230913T123659Z
UID:2748-1696777200-1696784400@stadtstreifen.org
SUMMARY:Stadttour mit Melanie Konrad am 08.10.2023
DESCRIPTION:Herzlich willkommen bei stadtstreifen! Erfahre aus erster Hand etwas über die Herausforderungen des Lebens auf der Straße und lerne gemeinsam mit einer ehemals wohnungslosen Person vertraute Plätze in Bonn aus einer neuen Perspektive kennen. \n\n\n\nDauer: 1\,5 bis 2 Stunden. \n\n\n\nTreffpunkt: Bonner Hbf (vor Primark). \n\n\n\nKosten: 6€ / ermäßigt 4€ / bis 14 Jahre kostenlos. Nach der Anmeldung kannst du aussuchen\, ob du das Geld überweisen oder bei Paypal bezahlen möchtest. Anschließend erhälst du die Teilnahmebestätigung per E-Mail.  \n\n\n\nDer Betrag ist bewusst niedrig gehalten\, um möglichst vielen Personen die Teilnahme zu ermöglich. Wenn dir die Tour gefallen hat\, drücke deine Wertschätzung für die stadtstreiferin bitte durch eine zusätzliche Spende an sie am Ende der Tour aus! \n\n\n\nWenn sich bis 48 Stunden vor der Tour weniger als 4 Personen angemeldet haben\, muss die Tour leider abgesagt werden und du wirst darüber per E-Mail informiert. Den bezahlten Betrag erstatten wir dir zurück oder du kannst dich kostenlos für eine andere Tour anmelden. \n\n\n\nBei Symptomen einer Covid-Erkrankung verzichte bitte auf eine Teilnahme.
URL:https://stadtstreifen.org/reservierung/stadttour-mit-melanie-konrad-am-08-10-2023/
LOCATION:Poststraße 4\, 53111\, Bonn\, Poststraße 4\, Bonn\, Nordrhein-Westfalen\, 53111\, Deutschland
ATTACH;FMTTYPE=image/jpeg:https://stadtstreifen.org/wp-content/uploads/2023/01/Stadtstreifen-Team-6-von-6-scaled-e1674064131694.jpg
END:VEVENT
BEGIN:VEVENT
DTSTART;TZID=Europe/Paris:20231021T150000
DTEND;TZID=Europe/Paris:20231021T170000
DTSTAMP:20260423T121406
CREATED:20230915T060550Z
LAST-MODIFIED:20230915T060551Z
UID:2752-1697900400-1697907600@stadtstreifen.org
SUMMARY:Stadttour mit Melanie Konrad am 21.10.2023
DESCRIPTION:Herzlich willkommen bei stadtstreifen! Erfahre aus erster Hand etwas über die Herausforderungen des Lebens auf der Straße und lerne gemeinsam mit einer ehemals wohnungslosen Person vertraute Plätze in Bonn aus einer neuen Perspektive kennen. \n\n\n\nDauer: 1\,5 bis 2 Stunden. \n\n\n\nTreffpunkt: Bonner Hbf (vor Primark). \n\n\n\nKosten: 6€ / ermäßigt 4€ / bis 14 Jahre kostenlos. Nach der Anmeldung kannst du aussuchen\, ob du das Geld überweisen oder bei Paypal bezahlen möchtest. Anschließend erhälst du die Teilnahmebestätigung per E-Mail.  \n\n\n\nDer Betrag ist bewusst niedrig gehalten\, um möglichst vielen Personen die Teilnahme zu ermöglich. Wenn dir die Tour gefallen hat\, drücke deine Wertschätzung für die stadtstreiferin bitte durch eine zusätzliche Spende an sie am Ende der Tour aus! \n\n\n\nWenn sich bis 48 Stunden vor der Tour weniger als 4 Personen angemeldet haben\, muss die Tour leider abgesagt werden und du wirst darüber per E-Mail informiert. Den bezahlten Betrag erstatten wir dir zurück oder du kannst dich kostenlos für eine andere Tour anmelden. \n\n\n\nBei Symptomen einer Covid-Erkrankung verzichte bitte auf eine Teilnahme.
URL:https://stadtstreifen.org/reservierung/stadttour-mit-melanie-konrad-am-21-10-2023/
LOCATION:Poststraße 4\, 53111\, Bonn\, Poststraße 4\, Bonn\, Nordrhein-Westfalen\, 53111\, Deutschland
ATTACH;FMTTYPE=image/jpeg:https://stadtstreifen.org/wp-content/uploads/2023/01/Stadtstreifen-Team-6-von-6-scaled-e1674064131694.jpg
END:VEVENT
END:VCALENDAR