BEGIN:VCALENDAR
VERSION:2.0
PRODID:-//stadtstreifen Bonn - ECPv6.15.20//NONSGML v1.0//EN
CALSCALE:GREGORIAN
METHOD:PUBLISH
X-WR-CALNAME:stadtstreifen Bonn
X-ORIGINAL-URL:https://stadtstreifen.org
X-WR-CALDESC:Veranstaltungen für stadtstreifen Bonn
REFRESH-INTERVAL;VALUE=DURATION:PT1H
X-Robots-Tag:noindex
X-PUBLISHED-TTL:PT1H
BEGIN:VTIMEZONE
TZID:Europe/Helsinki
BEGIN:DAYLIGHT
TZOFFSETFROM:+0200
TZOFFSETTO:+0300
TZNAME:EEST
DTSTART:20250330T010000
END:DAYLIGHT
BEGIN:STANDARD
TZOFFSETFROM:+0300
TZOFFSETTO:+0200
TZNAME:EET
DTSTART:20251026T010000
END:STANDARD
BEGIN:DAYLIGHT
TZOFFSETFROM:+0200
TZOFFSETTO:+0300
TZNAME:EEST
DTSTART:20260329T010000
END:DAYLIGHT
BEGIN:STANDARD
TZOFFSETFROM:+0300
TZOFFSETTO:+0200
TZNAME:EET
DTSTART:20261025T010000
END:STANDARD
BEGIN:DAYLIGHT
TZOFFSETFROM:+0200
TZOFFSETTO:+0300
TZNAME:EEST
DTSTART:20270328T010000
END:DAYLIGHT
BEGIN:STANDARD
TZOFFSETFROM:+0300
TZOFFSETTO:+0200
TZNAME:EET
DTSTART:20271031T010000
END:STANDARD
END:VTIMEZONE
BEGIN:VEVENT
DTSTART;TZID=Europe/Helsinki:20260510T110000
DTEND;TZID=Europe/Helsinki:20260510T130000
DTSTAMP:20260421T182900
CREATED:20260322T092234Z
LAST-MODIFIED:20260403T064921Z
UID:5372-1778410800-1778418000@stadtstreifen.org
SUMMARY:Stadttour mit Oleg am 10.05.2026
DESCRIPTION:Foto: © Jennifer Zumbusch\n\n\n\nDiese Stadtführung verbindet die persönliche Geschichte von Oleg\, einem Geschichtslehrer\, der mit einem humanitären Visum aus Moskau nach Bonn kam\, mit zentralen Fragen von Flucht\, Integration und Ankommen. Oleg spricht über das Leben in Gemeinschaftsunterkünften\, die Herausforderungen bürokratischer Prozesse und die Auswirkungen politischer Propaganda. Wir empfehlen die Teilnahme an dieser Führung ab einem Alter von 12 Jahren. \n\n\n\nDauer: 2 Stunden \n\n\n\nTreffpunkt: Eingang Kult Kiosk (Breite Straße 17\, 53111 Bonn) \n\n\n\nKosten: 10€ /ermäßigt 5€/ bis 14 Jahre kostenlos. Nach der Anmeldung kannst du aussuchen\, ob du das Geld überweisen oder bei Paypal bezahlen möchtest. Anschließend erhältst du die Anmeldungsbestätigung per E-Mail.. \n\n\n\nWenn sich bis 48 Stunden vor der Tour weniger als 6 Personen angemeldet haben\, muss die Tour leider abgesagt werden und du wirst darüber per E-Mail informiert. Den bezahlten Betrag erstatten wir dir zurück oder du kannst dich kostenlos für eine andere Tour anmelden.
URL:https://stadtstreifen.org/reservierung/stadttour-mit-oleg-am-10-05-2026/
LOCATION:Eingang Kult Kiosk\, Breite Strasse 17\, Bonn\, 53111
CATEGORIES:Menschen mit Fluchterfahrung
ATTACH;FMTTYPE=image/jpeg:https://stadtstreifen.org/wp-content/uploads/2025/11/Stadtstreifen_Oleg_JZ_229-1-scaled-e1764785461972.jpg
END:VEVENT
BEGIN:VEVENT
DTSTART;TZID=Europe/Helsinki:20260510T150000
DTEND;TZID=Europe/Helsinki:20260510T170000
DTSTAMP:20260421T182900
CREATED:20260326T164910Z
LAST-MODIFIED:20260330T135633Z
UID:5392-1778425200-1778432400@stadtstreifen.org
SUMMARY:Muttertagstour mit Melanie Konrad am 10.05.2026
DESCRIPTION:Herzlich willkommen bei stadtstreifen e.V.! Erfahre aus erster Hand etwas über die Herausforderungen des Lebens auf der Straße und lerne gemeinsam mit einer ehemals wohnungslosen Person vertraute Plätze in Bonn aus einer neuen Perspektive kennen. \n\n\n\nDauer: 1\,5 bis 2 Stunden. \n\n\n\nTreffpunkt: Bonner Hbf (vor Primark). \n\n\n\nKosten: 10€ / ermäßigt 5€ / bis 14 Jahre kostenlos. Nach der Anmeldung kannst du aussuchen\, ob du das Geld überweisen oder bei Paypal bezahlen möchtest. Anschließend erhältst du die Anmeldungsbestätigung per E-Mail. \n\n\n\nWenn sich bis 48 Stunden vor der Tour weniger als 6 Personen angemeldet haben\, muss die Tour leider abgesagt werden und du wirst darüber per E-Mail informiert. Den bezahlten Betrag erstatten wir dir zurück oder du kannst dich kostenlos für eine andere Tour anmelden.
URL:https://stadtstreifen.org/reservierung/muttertagstour-mit-melanie-konrad-am-10-05-2026/
LOCATION:Poststraße 4\, 53111 Bonn\, Poststraße 4\, Bonn\, 53111\, Deutschland
CATEGORIES:Leben in Wohnungslosigkeit
ATTACH;FMTTYPE=image/jpeg:https://stadtstreifen.org/wp-content/uploads/2023/01/Stadtstreifen-Team-6-von-6-scaled-e1674064131694.jpg
END:VEVENT
END:VCALENDAR