BEGIN:VCALENDAR
VERSION:2.0
PRODID:-//stadtstreifen Bonn - ECPv6.15.20//NONSGML v1.0//EN
CALSCALE:GREGORIAN
METHOD:PUBLISH
X-WR-CALNAME:stadtstreifen Bonn
X-ORIGINAL-URL:https://stadtstreifen.org
X-WR-CALDESC:Veranstaltungen für stadtstreifen Bonn
REFRESH-INTERVAL;VALUE=DURATION:PT1H
X-Robots-Tag:noindex
X-PUBLISHED-TTL:PT1H
BEGIN:VTIMEZONE
TZID:Europe/Paris
BEGIN:DAYLIGHT
TZOFFSETFROM:+0100
TZOFFSETTO:+0200
TZNAME:CEST
DTSTART:20240331T010000
END:DAYLIGHT
BEGIN:STANDARD
TZOFFSETFROM:+0200
TZOFFSETTO:+0100
TZNAME:CET
DTSTART:20241027T010000
END:STANDARD
BEGIN:DAYLIGHT
TZOFFSETFROM:+0100
TZOFFSETTO:+0200
TZNAME:CEST
DTSTART:20250330T010000
END:DAYLIGHT
BEGIN:STANDARD
TZOFFSETFROM:+0200
TZOFFSETTO:+0100
TZNAME:CET
DTSTART:20251026T010000
END:STANDARD
BEGIN:DAYLIGHT
TZOFFSETFROM:+0100
TZOFFSETTO:+0200
TZNAME:CEST
DTSTART:20260329T010000
END:DAYLIGHT
BEGIN:STANDARD
TZOFFSETFROM:+0200
TZOFFSETTO:+0100
TZNAME:CET
DTSTART:20261025T010000
END:STANDARD
END:VTIMEZONE
BEGIN:VEVENT
DTSTART;TZID=Europe/Paris:20250810T150000
DTEND;TZID=Europe/Paris:20250810T170000
DTSTAMP:20260421T170154
CREATED:20250613T161837Z
LAST-MODIFIED:20250808T131130Z
UID:3871-1754838000-1754845200@stadtstreifen.org
SUMMARY:Stadttour mit Melanie Konrad am 10.08.2025
DESCRIPTION:Erfahre aus erster Hand etwas über die Herausforderungen des Lebens auf der Straße und lerne gemeinsam mit einer wohnungslosen Person vertraute Plätze in Bonn aus einer neuen Perspektive kennen. \n\n\n\nDauer: 1\,5 bis 2 Stunden. \n\n\n\nTreffpunkt: Bonner Hbf (vor Primark). \n\n\n\nKosten: 6€ / ermäßigt 4€ / bis 14 Jahre kostenlos. Nach der Anmeldung kannst du aussuchen\, ob du das Geld überweisen oder bei Paypal bezahlen möchtest. Anschließend erhältst du die Anmeldungsbestätigung per E-Mail. \n\n\n\nWenn sich bis 48 Stunden vor der Tour weniger als 6 Personen angemeldet haben\, muss die Tour leider abgesagt werden und du wirst darüber per E-Mail informiert. Den bezahlten Betrag erstatten wir dir zurück oder du kannst dich kostenlos für eine andere Tour anmelden.
URL:https://stadtstreifen.org/reservierung/stadttour-mit-melanie-konrad-am-10-08-2025/
LOCATION:Poststraße 4\, 53111 Bonn\, Poststraße 4\, Bonn\, 53111\, Deutschland
CATEGORIES:Leben in Wohnungslosigkeit
ATTACH;FMTTYPE=image/jpeg:https://stadtstreifen.org/wp-content/uploads/2023/01/Stadtstreifen-Team-6-von-6-scaled-e1674064131694.jpg
END:VEVENT
END:VCALENDAR