BEGIN:VCALENDAR
VERSION:2.0
PRODID:-//stadtstreifen Bonn - ECPv6.15.20//NONSGML v1.0//EN
CALSCALE:GREGORIAN
METHOD:PUBLISH
X-ORIGINAL-URL:https://stadtstreifen.org
X-WR-CALDESC:Veranstaltungen für stadtstreifen Bonn
REFRESH-INTERVAL;VALUE=DURATION:PT1H
X-Robots-Tag:noindex
X-PUBLISHED-TTL:PT1H
BEGIN:VTIMEZONE
TZID:Europe/Paris
BEGIN:DAYLIGHT
TZOFFSETFROM:+0100
TZOFFSETTO:+0200
TZNAME:CEST
DTSTART:20220327T010000
END:DAYLIGHT
BEGIN:STANDARD
TZOFFSETFROM:+0200
TZOFFSETTO:+0100
TZNAME:CET
DTSTART:20221030T010000
END:STANDARD
BEGIN:DAYLIGHT
TZOFFSETFROM:+0100
TZOFFSETTO:+0200
TZNAME:CEST
DTSTART:20230326T010000
END:DAYLIGHT
BEGIN:STANDARD
TZOFFSETFROM:+0200
TZOFFSETTO:+0100
TZNAME:CET
DTSTART:20231029T010000
END:STANDARD
BEGIN:DAYLIGHT
TZOFFSETFROM:+0100
TZOFFSETTO:+0200
TZNAME:CEST
DTSTART:20240331T010000
END:DAYLIGHT
BEGIN:STANDARD
TZOFFSETFROM:+0200
TZOFFSETTO:+0100
TZNAME:CET
DTSTART:20241027T010000
END:STANDARD
END:VTIMEZONE
BEGIN:VEVENT
DTSTART;TZID=Europe/Paris:20230513T110000
DTEND;TZID=Europe/Paris:20230513T120000
DTSTAMP:20260423T233134
CREATED:20230507T115811Z
LAST-MODIFIED:20230507T120137Z
UID:2458-1683975600-1683979200@stadtstreifen.org
SUMMARY:Jubiläumstour mit Melanie Konrad am 13.05.2023
DESCRIPTION:Herzlich willkommen zur Jubiläumstour – zwei Jahre stadtstreifen in Bonn! Erfahre aus erster Hand etwas über die Herausforderungen des Lebens auf der Straße und lerne gemeinsam mit einer ehemals wohnungslosen Person vertraute Plätze in Bonn aus einer neuen Perspektive kennen. \n\n\n\nDauer: 1 Stunde \n\n\n\nTreffpunkt: Bonner Hbf (vor Primark) \n\n\n\nDie Tour endet abweichend an der AIDS-Initiative Bonn e.V.\, Graurheindorfer Str. 15\, 53111 Bonn! \n\n\n\nKosten: zur Feier des Tages kostenlos \n\n\n\n \n\n\n\nBei Symptomen einer Covid-Erkrankung verzichte bitte auf eine Teilnahme.
URL:https://stadtstreifen.org/reservierung/jubilaeumstour-mit-melanie-konrad-am-13-05-2023/
ATTACH;FMTTYPE=image/jpeg:https://stadtstreifen.org/wp-content/uploads/2023/01/Stadtstreifen-Team-6-von-6-scaled-e1674064131694.jpg
END:VEVENT
END:VCALENDAR